BEGIN:VCALENDAR
VERSION:2.0
PRODID:spatie/icalendar-generator
DESCRIPTION:Events from Milton Public Library
X-WR-CALDESC:Events from Milton Public Library
REFRESH-INTERVAL;VALUE=DURATION:PT1440M
X-PUBLISHED-TTL:PT1440M
BEGIN:VTIMEZONE
TZID:America/New_York
BEGIN:DAYLIGHT
DTSTART:20250309T020000Z
TZOFFSETFROM:-0500
TZOFFSETTO:-0400
END:DAYLIGHT
BEGIN:STANDARD
DTSTART:20251102T020000Z
TZOFFSETFROM:-0400
TZOFFSETTO:-0500
END:STANDARD
BEGIN:DAYLIGHT
DTSTART:20260308T020000Z
TZOFFSETFROM:-0500
TZOFFSETTO:-0400
END:DAYLIGHT
END:VTIMEZONE
BEGIN:VTIMEZONE
TZID:UTC
BEGIN:STANDARD
DTSTART:20250724T192609Z
TZOFFSETFROM:+0000
TZOFFSETTO:+0000
END:STANDARD
END:VTIMEZONE
BEGIN:VEVENT
UID:462-146
DTSTAMP:20260420T192609Z
SUMMARY:The Haunting of Rose Hill: Curbside Activity
LOCATION:The Milton Public Library 541 Broadway  Milton  Pennsylvania 17847
ORGANIZER;CN=Admin:MAILTO:director@miltonpalibrary.org
RRULE:FREQ=DAILY;UNTIL=20251031T000000Z
DTSTART;TZID=America/New_York;VALUE=DATE:20251026
DTEND;TZID=America/New_York;VALUE=DATE:20251027
X-ALT-DESC;FMTTYPE=TEXT/HTML:
CATEGORIES:General
URL;VALUE=URI:https://miltonpalibrary.org/mc-events/the-haunting-of-rose-hi
 ll-curbside-activity/?mc_id=462
END:VEVENT
END:VCALENDAR