BEGIN:VCALENDAR
VERSION:2.0
PRODID:spatie/icalendar-generator
DESCRIPTION:Events from Milton Public Library
X-WR-CALDESC:Events from Milton Public Library
REFRESH-INTERVAL;VALUE=DURATION:PT1440M
X-PUBLISHED-TTL:PT1440M
BEGIN:VTIMEZONE
TZID:America/New_York
BEGIN:STANDARD
DTSTART:20241103T020000Z
TZOFFSETFROM:-0400
TZOFFSETTO:-0500
END:STANDARD
BEGIN:DAYLIGHT
DTSTART:20250309T020000Z
TZOFFSETFROM:-0500
TZOFFSETTO:-0400
END:DAYLIGHT
BEGIN:STANDARD
DTSTART:20251102T020000Z
TZOFFSETFROM:-0400
TZOFFSETTO:-0500
END:STANDARD
END:VTIMEZONE
BEGIN:VTIMEZONE
TZID:UTC
BEGIN:STANDARD
DTSTART:20250725T141115Z
TZOFFSETFROM:+0000
TZOFFSETTO:+0000
END:STANDARD
END:VTIMEZONE
BEGIN:VEVENT
UID:212-71
DTSTAMP:20260421T141115Z
SUMMARY:Hydrangeas Slate Painting Fundraiser
LOCATION:The Milton Public Library 541 Broadway  Milton  Pennsylvania 17847
ORGANIZER;CN=Admin:MAILTO:director@miltonpalibrary.org
DTSTART;TZID=America/New_York:20250708T110000
DTEND;TZID=America/New_York:20250708T130000
X-ALT-DESC;FMTTYPE=TEXT/HTML:<p>Registration:<br />\nhttps://docs.google.co
 m/forms/d/e/1FAIpQLSeHKIQrgCaDWkQ9tb3jk0V0ugYVT9Oxi0dbvNk2LYL23_wdLw/viewf
 orm?usp=preview</p>\n
CATEGORIES:General
URL;VALUE=URI:https://miltonpalibrary.org/mc-events/hydrangeas-slate-painti
 ng-fundraiser/?mc_id=212
END:VEVENT
END:VCALENDAR