BEGIN:VCALENDAR
VERSION:2.0
PRODID:spatie/icalendar-generator
DESCRIPTION:Events from Milton Public Library
X-WR-CALDESC:Events from Milton Public Library
REFRESH-INTERVAL;VALUE=DURATION:PT1440M
X-PUBLISHED-TTL:PT1440M
BEGIN:VTIMEZONE
TZID:America/New_York
BEGIN:DAYLIGHT
DTSTART:20250309T020000Z
TZOFFSETFROM:-0500
TZOFFSETTO:-0400
END:DAYLIGHT
BEGIN:STANDARD
DTSTART:20251102T020000Z
TZOFFSETFROM:-0400
TZOFFSETTO:-0500
END:STANDARD
BEGIN:DAYLIGHT
DTSTART:20260308T020000Z
TZOFFSETFROM:-0500
TZOFFSETTO:-0400
END:DAYLIGHT
END:VTIMEZONE
BEGIN:VTIMEZONE
TZID:UTC
BEGIN:STANDARD
DTSTART:20250724T201951Z
TZOFFSETFROM:+0000
TZOFFSETTO:+0000
END:STANDARD
END:VTIMEZONE
BEGIN:VEVENT
UID:557-189
DTSTAMP:20260420T201951Z
SUMMARY:Storytime with Miss Nancy
LOCATION:The Milton Public Library 541 Broadway  Milton  Pennsylvania 17847
ORGANIZER;CN=Admin:MAILTO:director@miltonpalibrary.org
DTSTART;TZID=America/New_York:20251105T113000
DTEND;TZID=America/New_York:20251105T123000
X-ALT-DESC;FMTTYPE=TEXT/HTML:
CATEGORIES:General
URL;VALUE=URI:https://miltonpalibrary.org/mc-events/storytime-with-miss-nan
 cy-2/?mc_id=557
END:VEVENT
END:VCALENDAR